BEGIN:VCALENDAR
VERSION:2.0
PRODID:-//ChamberMaster//Event Calendar 2.0//EN
METHOD:PUBLISH
X-PUBLISHED-TTL:P3D
REFRESH-INTERVAL:P3D
CALSCALE:GREGORIAN
BEGIN:VEVENT
DTSTART:20201117T133000Z
DTEND:20201118T023000Z
X-MICROSOFT-CDO-ALLDAYEVENT:FALSE
SUMMARY:Batavia Business Exchange
DESCRIPTION:The Batavia Business Exchange is our weekly networking group. The group is currently open to new members\, but it is industry specific. Please inquire about the group requirements and open business category prior to attending.
X-ALT-DESC;FMTTYPE=text/html:The Batavia Business Exchange<strong>&nbsp\;</strong>is our weekly networking group. The group is currently open to new members\, but it is industry specific.&nbsp\;Please inquire about the group requirements and open business&nbsp\;category&nbsp\;prior to attending.
LOCATION:Hosted at The Holmstad 700 W. Fabyan Parkway Batavia
UID:e.1902.7163
SEQUENCE:3
DTSTAMP:20260421T224505Z
URL:https://business.bataviachamber.org/events/details/leads-group-11-17-2020-7163
END:VEVENT

END:VCALENDAR
