BEGIN:VCALENDAR
VERSION:2.0
PRODID:-//ChamberMaster//Event Calendar 2.0//EN
METHOD:PUBLISH
X-PUBLISHED-TTL:P3D
REFRESH-INTERVAL:P3D
CALSCALE:GREGORIAN
BEGIN:VEVENT
DTSTART:20201021T123000Z
DTEND:20201022T013000Z
X-MICROSOFT-CDO-ALLDAYEVENT:FALSE
SUMMARY:Tri-City Business Council
DESCRIPTION:The Tri-City Business Council is our Wednesday weekly networking group. The group is currently open to new members\, but it is industry specific. Please inquire about the group requirements and open business category prior to attending.
X-ALT-DESC;FMTTYPE=text/html:The Tri-City Business Council<strong>&nbsp\;</strong>is our Wednesday weekly networking group. The group is currently open to new members\, but it is industry specific. Please inquire about the group requirements and open business category&nbsp\;prior to attending.
LOCATION:Colonial Cafe - St. Charles West 552 Randall Road St. Charles
UID:e.1902.7360
SEQUENCE:3
DTSTAMP:20260422T002553Z
URL:https://business.bataviachamber.org/events/details/leads-group-10-21-2020-7360
END:VEVENT

END:VCALENDAR
