BEGIN:VCALENDAR
VERSION:2.0
PRODID:-//ChamberMaster//Event Calendar 2.0//EN
METHOD:PUBLISH
X-PUBLISHED-TTL:P3D
REFRESH-INTERVAL:P3D
CALSCALE:GREGORIAN
BEGIN:VEVENT
DTSTART:20190424T123000Z
DTEND:20190425T013000Z
X-MICROSOFT-CDO-ALLDAYEVENT:FALSE
SUMMARY:Tri-City Business Council
DESCRIPTION:The Tri-City Business Council is our Wednesday weekly networking group. The group is currently open to new members\, but it is industry specific. Please inquire about the group requirements and open business category prior to attending.
X-ALT-DESC;FMTTYPE=text/html:The Tri-City Business Council<strong>&nbsp\;</strong>is our Wednesday weekly networking group. The group is currently open to new members\, but it is industry specific. Please inquire about the group requirements and open business category&nbsp\;prior to attending.
LOCATION:Colonial Cafe - St. Charles West 552 Randall Road St. Charles
UID:e.1902.7282
SEQUENCE:3
DTSTAMP:20260423T084430Z
URL:https://business.bataviachamber.org/events/details/leads-group-04-24-2019-7282
END:VEVENT

END:VCALENDAR
