BEGIN:VCALENDAR
VERSION:2.0
PRODID:-//ChamberMaster//Event Calendar 2.0//EN
METHOD:PUBLISH
X-PUBLISHED-TTL:P3D
REFRESH-INTERVAL:P3D
CALSCALE:GREGORIAN
BEGIN:VEVENT
DTSTART:20190402T123000Z
DTEND:20190403T013000Z
X-MICROSOFT-CDO-ALLDAYEVENT:FALSE
SUMMARY:Leads Group
DESCRIPTION:Leads Group is our weekly networking group. The group is currently open to new members\, but it is industry specific. Please inquire about the group requirements and open business category prior to attending.
X-ALT-DESC;FMTTYPE=text/html:Leads Group<strong>&nbsp\;</strong>is our weekly networking group. The group is currently open to new members\, but it is industry specific.&nbsp\;Please inquire about the group requirements and open business&nbsp\;category&nbsp\;prior to attending.
LOCATION:Hosted at The Holmstad 700 W. Fabyan Parkway Batavia
UID:e.1902.7078
SEQUENCE:3
DTSTAMP:20260423T085716Z
URL:https://business.bataviachamber.org/events/details/leads-group-04-02-2019-7078
END:VEVENT

END:VCALENDAR
