BEGIN:VCALENDAR
VERSION:2.0
PRODID:-//ChamberMaster//Event Calendar 2.0//EN
METHOD:PUBLISH
X-PUBLISHED-TTL:P3D
REFRESH-INTERVAL:P3D
CALSCALE:GREGORIAN
BEGIN:VEVENT
DTSTART:20190116T133000Z
DTEND:20190117T023000Z
X-MICROSOFT-CDO-ALLDAYEVENT:FALSE
SUMMARY:Leads Group
DESCRIPTION:Leads Group is our weekly networking group. The group is currently open to new members\, but it is industry specific. Please inquire about the group requirements and open business category prior to attending.
X-ALT-DESC;FMTTYPE=text/html:Leads Group<strong>&nbsp\;</strong>is our weekly networking group. The group is currently open to new members\, but it is industry specific. Please inquire about the group requirements and open business category&nbsp\;prior to attending.
LOCATION:Colonial Cafe - St. Charles West 552 Randall Road St. Charles
UID:e.1902.7268
SEQUENCE:3
DTSTAMP:20260423T133205Z
URL:https://business.bataviachamber.org/events/details/leads-group-01-16-2019-7268
END:VEVENT

END:VCALENDAR
