BEGIN:VCALENDAR
VERSION:2.0
PRODID:-//ChamberMaster//Event Calendar 2.0//EN
METHOD:PUBLISH
X-PUBLISHED-TTL:P3D
REFRESH-INTERVAL:P3D
CALSCALE:GREGORIAN
BEGIN:VEVENT
DTSTART:20190108T133000Z
DTEND:20190109T023000Z
X-MICROSOFT-CDO-ALLDAYEVENT:FALSE
SUMMARY:Leads Group
DESCRIPTION:Leads Group is our weekly networking group. The group is currently open to new members\, but it is industry specific. Please inquire about the group requirements and open business category prior to attending.
X-ALT-DESC;FMTTYPE=text/html:Leads Group<strong>&nbsp\;</strong>is our weekly networking group. The group is currently open to new members\, but it is industry specific.&nbsp\;Please inquire about the group requirements and open business&nbsp\;category&nbsp\;prior to attending.
LOCATION:Hosted at The Holmstad 700 W. Fabyan Parkway Batavia
UID:e.1902.7066
SEQUENCE:3
DTSTAMP:20260423T133124Z
URL:https://business.bataviachamber.org/events/details/leads-group-01-08-2019-7066
END:VEVENT

END:VCALENDAR
