BEGIN:VCALENDAR
VERSION:2.0
PRODID:-//ChamberMaster//Event Calendar 2.0//EN
METHOD:PUBLISH
X-PUBLISHED-TTL:P3D
REFRESH-INTERVAL:P3D
CALSCALE:GREGORIAN
BEGIN:VEVENT
DTSTART:20110611T050000Z
DTEND:20110611T050000Z
X-MICROSOFT-CDO-ALLDAYEVENT:FALSE
SUMMARY:Lazarus House Open House
DESCRIPTION:Stop by to see first hand what we're about. Tour our facilities\, ask questions\, and learn about theprograms Lazarus House offers to those in our community.
X-ALT-DESC;FMTTYPE=text/html:Stop by to see first hand what we're about. Tour our facilities\, ask questions\, and learn about theprograms Lazarus House offers to those in our community.
LOCATION:Lazarus House
UID:e.1902.220
SEQUENCE:3
DTSTAMP:20260423T102654Z
URL:https://business.bataviachamber.org/events/details/lazarus-house-open-house-06-11-2011-220
END:VEVENT

END:VCALENDAR
