BEGIN:VCALENDAR
VERSION:2.0
PRODID:-//ChamberMaster//Event Calendar 2.0//EN
METHOD:PUBLISH
X-PUBLISHED-TTL:P3D
REFRESH-INTERVAL:P3D
CALSCALE:GREGORIAN
BEGIN:VEVENT
DTSTART;VALUE=DATE:20200726
DTEND;VALUE=DATE:20200727
TRANSP:TRANSPARENT
X-MICROSOFT-CDO-ALLDAYEVENT:TRUE
SUMMARY:Lazarus House Great Western Freedom Run/Ride/Walk-a-thon
DESCRIPTION:Lazarus House is excited to announce the 2020 Great Western Freedom 4 Virtual Run/Ride/Walk-a-thon to replace the competitive run usually held on July 4th Run-Ride-Walk to support your neighbors in crisis! YOU CAN MAKE A DIFFERENCE Join the fun and support Lazarus House by running\, riding\, and walking as much as you want\, when you want\, and where you want\, as a fundraiser to support Lazarus House during the month of August. Participate as an individual\, join a team\, or become a Team Captain and gather your friends/family to fundraise together\, while maintaining social distancing! Participants will earn prizes for their fundraising and participation efforts. There will also be Pop-up challenges on social media to earn even more prizes! All proceeds benefit Lazarus House\, a 501(c) (3) not-for-profit Emergency Shelter\, Center for Transitional Living\, and Homeless Prevention Program for men\, women\, and children who are homeless or in crisis from Batavia\, Geneva\, St. Charles\, or western rural Kane County.
X-ALT-DESC;FMTTYPE=text/html:Lazarus House is excited to announce the 2020 Great Western Freedom 4 Virtual Run/Ride/Walk-a-thon to replace the competitive run usually held on July 4th Run-Ride-Walk to support your neighbors in crisis! YOU CAN MAKE A DIFFERENCE Join the fun and support Lazarus House by running\, riding\, and walking as much as you want\, when you want\, and where you want\, as a fundraiser to support Lazarus House during the month of August. Participate as an individual\, join a team\, or become a Team Captain and gather your friends/family to fundraise together\, while maintaining social distancing! Participants will earn prizes for their fundraising and participation efforts. There will also be Pop-up challenges on social media to earn even more prizes! All proceeds benefit Lazarus House\, a 501(c) (3) not-for-profit Emergency Shelter\, Center for Transitional Living\, and Homeless Prevention Program for men\, women\, and children who are homeless or in crisis from Batavia\, Geneva\, St. Charles\, or western rural Kane County.
LOCATION:
UID:e.1902.12269
SEQUENCE:3
DTSTAMP:20260422T163923Z
URL:https://business.bataviachamber.org/events/details/lazarus-house-great-western-freedom-run-ride-walk-a-thon-07-26-2020-12269
END:VEVENT

END:VCALENDAR
