BEGIN:VCALENDAR
VERSION:2.0
PRODID:-//ChamberMaster//Event Calendar 2.0//EN
METHOD:PUBLISH
X-PUBLISHED-TTL:P3D
REFRESH-INTERVAL:P3D
CALSCALE:GREGORIAN
BEGIN:VEVENT
DTSTART:20091028T050000Z
DTEND:20091028T050000Z
X-MICROSOFT-CDO-ALLDAYEVENT:FALSE
SUMMARY:Laughing Your Way to Wellness
DESCRIPTION:CEU Credit presentation Can you laugh your way to wellness?  This is a presentation that attendees will receive about physical\, emotional & spirtual benefits of laugher for a healthier you! CEU credits.
X-ALT-DESC;FMTTYPE=text/html:CEU Credit presentation Can you laugh your way to wellness?  This is a presentation that attendees will receive about physical\, emotional & spirtual benefits of laugher for a healthier you! CEU credits.
LOCATION:Alden Gardens of Waterford
UID:e.1902.1059
SEQUENCE:3
DTSTAMP:20260421T025958Z
URL:https://business.bataviachamber.org/events/details/laughing-your-way-to-wellness-10-28-2009-1059
END:VEVENT

END:VCALENDAR
