BEGIN:VCALENDAR
VERSION:2.0
PRODID:-//ChamberMaster//Event Calendar 2.0//EN
METHOD:PUBLISH
X-PUBLISHED-TTL:P3D
REFRESH-INTERVAL:P3D
CALSCALE:GREGORIAN
BEGIN:VEVENT
DTSTART:20110506T050000Z
DTEND:20110506T050000Z
X-MICROSOFT-CDO-ALLDAYEVENT:FALSE
SUMMARY:Ladies Tea Party
DESCRIPTION:Ladies Tea Party with speaker Mary Beth Janssen to speak about "The Pleasure of Healing the Mind" through masage\, yoga and more!!Tea and scones will be served! RSVP to 630-851-1880. FREE!!!
X-ALT-DESC;FMTTYPE=text/html:Ladies Tea Party with speaker Mary Beth Janssen to speak about "The Pleasure of Healing the Mind" through masage\, yoga and more!!Tea and scones will be served! RSVP to 630-851-1880. FREE!!!
LOCATION:Alden Gardens of Waterford
UID:e.1902.243
SEQUENCE:3
DTSTAMP:20260419T164047Z
URL:https://business.bataviachamber.org/events/details/ladies-tea-party-05-06-2011-243
END:VEVENT

END:VCALENDAR
