BEGIN:VCALENDAR
VERSION:2.0
PRODID:-//ChamberMaster//Event Calendar 2.0//EN
METHOD:PUBLISH
X-PUBLISHED-TTL:P3D
REFRESH-INTERVAL:P3D
CALSCALE:GREGORIAN
BEGIN:VEVENT
DTSTART:20081030T050000Z
DTEND:20081030T050000Z
X-MICROSOFT-CDO-ALLDAYEVENT:FALSE
SUMMARY:Ladies Night Out Fashion Show
DESCRIPTION:Who doesn't want to look fabulous this holiday season?  Join Sandy Ryan of Bella Bridal and Karen Hollis of K.Hollis Jewelers as they present the newest in holiday fashion!  This very special ladies night out will feature a specially selected wine by the glass adn small plate menu as well as some fun raffle prizes!  Grab your girlfriends and enjoy a great night out!
X-ALT-DESC;FMTTYPE=text/html:Who doesn't want to look fabulous this holiday season?  Join Sandy Ryan of Bella Bridal and Karen Hollis of K.Hollis Jewelers as they present the newest in holiday fashion!  This very special ladies night out will feature a specially selected wine by the glass adn small plate menu as well as some fun raffle prizes!  Grab your girlfriends and enjoy a great night out!
LOCATION:Gibby's Wine Den
UID:e.1902.790
SEQUENCE:3
DTSTAMP:20260421T230833Z
URL:https://business.bataviachamber.org/events/details/ladies-night-out-fashion-show-10-30-2008-790
END:VEVENT

END:VCALENDAR
