BEGIN:VCALENDAR
VERSION:2.0
PRODID:-//ChamberMaster//Event Calendar 2.0//EN
METHOD:PUBLISH
X-PUBLISHED-TTL:P3D
REFRESH-INTERVAL:P3D
CALSCALE:GREGORIAN
BEGIN:VEVENT
DTSTART:20081031T000000Z
DTEND:20081031T020000Z
X-MICROSOFT-CDO-ALLDAYEVENT:FALSE
SUMMARY:Ladies Night Out at GIBBY'S WINE DEN
DESCRIPTION:Holiday Fashion Show The holidays are getting closer\, and who doesn't want to look fabulous?  Join Bella Bridal and K.Hollis Jewelers as they present a fashion show that highlights the newest holiday fashions. A special wine by the glass and small plates menu will be available for the evening\, as well as some fun raffle prizes! Bring a friend and enjoy a ladies night out! Complimentary event - Reservations required.
X-ALT-DESC;FMTTYPE=text/html:<DIV style="FONT-FAMILY: Arial" align=center><FONT color=#ff0000><STRONG>Holiday Fashion Show</STRONG></FONT></DIV><DIV style="FONT-FAMILY: Arial" align=left>&nbsp\;</DIV><DIV style="FONT-FAMILY: Arial" align=left>The holidays are getting closer\, and who doesn't want to look fabulous? </DIV><DIV style="FONT-FAMILY: Arial" align=left>&nbsp\;</DIV><DIV style="FONT-FAMILY: Arial" align=left>Join Bella Bridal and <FONT color=#ff0000><STRONG>K.Hollis Jewelers</STRONG></FONT> as they present a fashion show that highlights the newest holiday fashions. A special wine by the glass and small plates menu will be available for the evening\, as well as some fun raffle prizes! Bring a friend and enjoy a ladies night out! Complimentary event - Reservations required.&nbsp\;</DIV>
LOCATION:Gibby's Wine Den
UID:e.1902.1601
SEQUENCE:3
DTSTAMP:20260421T230458Z
URL:https://business.bataviachamber.org/events/details/ladies-night-out-at-gibby-s-wine-den-10-30-2008-1601
END:VEVENT

END:VCALENDAR
