BEGIN:VCALENDAR
VERSION:2.0
PRODID:-//ChamberMaster//Event Calendar 2.0//EN
METHOD:PUBLISH
X-PUBLISHED-TTL:P3D
REFRESH-INTERVAL:P3D
CALSCALE:GREGORIAN
BEGIN:VEVENT
DTSTART:20080918T220000Z
DTEND:20080919T010000Z
X-MICROSOFT-CDO-ALLDAYEVENT:FALSE
SUMMARY:Ladies Night Out @ Ashland Flooring Co.
DESCRIPTION:Come browse our showroom and shop for jewelry\, purses\, candles\, cosmetics and housewares only to name a few.  Complimentary hors d'oeuvres and drinks will be served\, courtesy of your local business representatives.
X-ALT-DESC;FMTTYPE=text/html:Come browse our showroom and shop for jewelry\, purses\, candles\, cosmetics and housewares only to name a few.  Complimentary hors d'oeuvres and drinks will be served\, courtesy of your local business representatives.
LOCATION:Ashland Flooring Company
UID:e.1902.1576
SEQUENCE:3
DTSTAMP:20260422T005638Z
URL:https://business.bataviachamber.org/events/details/ladies-night-out-ashland-flooring-co-09-18-2008-1576
END:VEVENT

END:VCALENDAR
