BEGIN:VCALENDAR
VERSION:2.0
PRODID:-//ChamberMaster//Event Calendar 2.0//EN
METHOD:PUBLISH
X-PUBLISHED-TTL:P3D
REFRESH-INTERVAL:P3D
CALSCALE:GREGORIAN
BEGIN:VEVENT
DTSTART:20091028T050000Z
DTEND:20091028T050000Z
X-MICROSOFT-CDO-ALLDAYEVENT:FALSE
SUMMARY:Ladies Night Out
DESCRIPTION:You won’t want to miss Gibby’s Ladies Night Out.  On Wednesday\, October 28th\, beginning at 7pm\, ourstaff designers will demonstrate how to create stunning holiday tabletops.  Sit down or buffet\, welcome your guests to their meal with an enticing scene.  This idea filled evening will include nibbleson tasty treats\, a glass of wine and the opportunity to enjoy a significant savings for an in-homeconsultation.  Gather a few friends and make your reservations.  Space is limited.  $10/person. Reservations required.\n\nFor additional information on the Ladies Night Out event\, contact Jan Gibson at 630.208.6424 or visit www.gibbys-wine.com
X-ALT-DESC;FMTTYPE=text/html:You won’t want to miss Gibby’s Ladies Night Out.  On Wednesday\, October 28th\, beginning at 7pm\, ourstaff designers will demonstrate how to create stunning holiday tabletops.  Sit down or buffet\, welcome your guests to their meal with an enticing scene.  This idea filled evening will include nibbleson tasty treats\, a glass of wine and the opportunity to enjoy a significant savings for an in-homeconsultation.  Gather a few friends and make your reservations.  Space is limited.  $10/person. Reservations required.\n\nFor additional information on the Ladies Night Out event\, contact Jan Gibson at 630.208.6424 or visit www.gibbys-wine.com\n\n
LOCATION:Gibby's Wine Den
UID:e.1902.1061
SEQUENCE:3
DTSTAMP:20260421T025819Z
URL:https://business.bataviachamber.org/events/details/ladies-night-out-10-28-2009-1061
END:VEVENT

END:VCALENDAR
