BEGIN:VCALENDAR
VERSION:2.0
PRODID:-//ChamberMaster//Event Calendar 2.0//EN
METHOD:PUBLISH
X-PUBLISHED-TTL:P3D
REFRESH-INTERVAL:P3D
CALSCALE:GREGORIAN
BEGIN:VEVENT
DTSTART;VALUE=DATE:20080713
DTEND;VALUE=DATE:20080714
TRANSP:TRANSPARENT
X-MICROSOFT-CDO-ALLDAYEVENT:TRUE
SUMMARY:Kleenex Ford Fusion NASCAR Replica at Sam's Club
DESCRIPTION:Racing fans in Batavia\, Ill.\, have a unique opportunity to get close to an\nauthentic NASCAR race car.  Kimberly-Clark Corp. announced today that a\nreplica of the No. 27 Kleenex Ford Fusion\, driven by Nationwide Series\ndriver Brad Coleman\, will make a pit stop on July 13\, 2008 at the Sam's Club\non 501 North Randall Road.  The car will be at the store throughout the day.
X-ALT-DESC;FMTTYPE=text/html:Racing fans in Batavia\, Ill.\, have a unique opportunity to get close to an\nauthentic NASCAR race car.  Kimberly-Clark Corp. announced today that a\nreplica of the No. 27 Kleenex Ford Fusion\, driven by Nationwide Series\ndriver Brad Coleman\, will make a pit stop on July 13\, 2008 at the Sam's Club\non 501 North Randall Road.  The car will be at the store throughout the day.
LOCATION:Sam's Club
UID:e.1902.1566
SEQUENCE:3
DTSTAMP:20260422T043947Z
URL:https://business.bataviachamber.org/events/details/kleenex-ford-fusion-nascar-replica-at-sam-s-club-07-13-2008-1566
END:VEVENT

END:VCALENDAR
