BEGIN:VCALENDAR
VERSION:2.0
PRODID:-//ChamberMaster//Event Calendar 2.0//EN
METHOD:PUBLISH
X-PUBLISHED-TTL:P3D
REFRESH-INTERVAL:P3D
CALSCALE:GREGORIAN
BEGIN:VEVENT
DTSTART:20260510T160000Z
DTEND:20260510T180000Z
X-MICROSOFT-CDO-ALLDAYEVENT:FALSE
SUMMARY:Kitty Nail Trims
DESCRIPTION:Perfect for ages 6 months and up.\n\n\n\nLet Anderson Humane's Behavior Team give your cat the perfect pedicure! Our trained team ensures a low-stress\, fear-free environment for your cat's nail trim experience. With our low-contact procedure\, you can relax in your car while we handle everything for you!\n\nKitty nail trims are available on the second Sunday of every month at our Veterinary Clinic\, located at 309 S Randall Road in South Elgin\, from 11am-1pm.\n\nTo register\, click here!
X-ALT-DESC;FMTTYPE=text/html:<div style="background:50% center / cover no-repeat rgb(248\, 247\, 247)\; border:0px\; padding:0px">\n<div style="background:transparent\; border:0px\; padding:0px">Perfect for ages 6 months and up.</div>\n</div>\n\n<div style="background:50% center / cover no-repeat rgb(248\, 247\, 247)\; border:0px\; padding:20px 40px">\n<p>Let Anderson Humane&rsquo\;s Behavior Team give your cat the perfect pedicure! Our trained team ensures a low-stress\, fear-free environment for your cat&rsquo\;s&nbsp\;nail&nbsp\;trim experience. With our low-contact procedure\, you can relax in your car while we handle everything for you!</p>\n\n<p>Kitty nail trims are available on the<strong>&nbsp\;second Sunday of every month</strong>&nbsp\;at our Veterinary Clinic\, located at 309 S Randall Road in South Elgin\,&nbsp\;<strong>from 11am-1pm.</strong></p>\n\n<p>To register\, click&nbsp\;<a href="https://www.signupgenius.com/go/10C094BABAB28A0FFC07-50075824-kitty#/" style="box-sizing: border-box\; margin: 0px\; padding: 0px\; border: 0px\; outline: 0px\; text-size-adjust: 100%\; vertical-align: baseline\; background: transparent\; text-decoration-color: rgb(171\, 195\, 128)\; font-weight: 700\; color: rgb(171\, 195\, 128) !important\;">here!</a></p>\n</div>\n
LOCATION:
UID:e.1902.30736
SEQUENCE:3
DTSTAMP:20260421T114241Z
URL:https://business.bataviachamber.org/events/details/kitty-nail-trims-05-10-2026-30736
END:VEVENT

END:VCALENDAR
