BEGIN:VCALENDAR
VERSION:2.0
PRODID:-//ChamberMaster//Event Calendar 2.0//EN
METHOD:PUBLISH
X-PUBLISHED-TTL:P3D
REFRESH-INTERVAL:P3D
CALSCALE:GREGORIAN
BEGIN:VEVENT
DTSTART:20241107T013000Z
DTEND:20241107T030000Z
X-MICROSOFT-CDO-ALLDAYEVENT:FALSE
SUMMARY:Kevin Farley
DESCRIPTION:Kevin Farley is a comedian\, actor\, writer\, and director known for his roles in Black Sheep and The Waterboy. He's appeared on Curb Your Enthusiasm\, Drunk History\, and F is for Family\, and co-executive produced the documentary I Am Chris Farley. Kevin performs stand-up nationwide and has a Drybar Comedy Special.
X-ALT-DESC;FMTTYPE=text/html:<span style="background-color:rgb(255\, 255\, 255)\; color:rgb(34\, 34\, 34)\; font-family:arial\,helvetica\,sans-serif\; font-size:small">Kevin Farley is a comedian\, actor\, writer\, and director known for his roles in Black Sheep and The Waterboy. He&rsquo\;s appeared on Curb Your Enthusiasm\, Drunk History\, and F is for Family\, and co-executive produced the documentary I Am Chris Farley. Kevin performs stand-up nationwide and has a Drybar Comedy Special.</span>
LOCATION:The Comedy Vault 18 E Wilson St Batavia IL 60510
UID:e.1902.26406
SEQUENCE:3
DTSTAMP:20260425T233004Z
URL:https://business.bataviachamber.org/events/details/kevin-farley-26406
END:VEVENT

END:VCALENDAR
