BEGIN:VCALENDAR
VERSION:2.0
PRODID:-//ChamberMaster//Event Calendar 2.0//EN
METHOD:PUBLISH
X-PUBLISHED-TTL:P3D
REFRESH-INTERVAL:P3D
CALSCALE:GREGORIAN
BEGIN:VEVENT
DTSTART:20241114T150000Z
DTEND:20241114T160000Z
X-MICROSOFT-CDO-ALLDAYEVENT:FALSE
SUMMARY:Kane County Senior Resources monthly Zoom meeting
DESCRIPTION:We are Kane County businesses\, government agencies and non profits that serve seniors as clients\, customers\, tenants or residents.\n\n\n\nWe promote best practices to provide care\, service and quality of life to our senior community residents.\n\n\n\nWe share business referrals and information about business trends\, government action\, laws and regulations and community activity to make Kane County a better place for its older residents.
X-ALT-DESC;FMTTYPE=text/html:We are Kane County businesses\, government agencies and non profits that serve seniors as clients\, customers\, tenants or residents.<br />\n<br />\nWe promote best practices to provide care\, service and quality of life to our senior community residents.<br />\n<br />\nWe share business referrals and information about business trends\, government action\, laws and regulations and community activity to make Kane County a better place for its older residents.<br />\n<br />\n&nbsp\;
LOCATION:Please email for a link to our 60 minute Zoom meeting.
UID:e.1902.13145
SEQUENCE:3
DTSTAMP:20260425T233631Z
URL:https://business.bataviachamber.org/events/details/kane-county-senior-resources-monthly-zoom-meeting-11-14-2024-13145
END:VEVENT

END:VCALENDAR
