BEGIN:VCALENDAR
VERSION:2.0
PRODID:-//ChamberMaster//Event Calendar 2.0//EN
METHOD:PUBLISH
X-PUBLISHED-TTL:P3D
REFRESH-INTERVAL:P3D
CALSCALE:GREGORIAN
BEGIN:VEVENT
DTSTART:20091024T050000Z
DTEND:20091024T050000Z
X-MICROSOFT-CDO-ALLDAYEVENT:FALSE
SUMMARY:Kameleon Trunk Show
DESCRIPTION:One day only... customers will be able to purchase special "Holiday Pops"\n\nFree Kameleon Collectors Compact with Purchase of $100 or More\n\nFree Jewel Pop with Purchase of $150 or More\n\nRefreshments and Special Raffle Prizes
X-ALT-DESC;FMTTYPE=text/html:One day only... customers will be able to purchase special "Holiday Pops"\n\nFree Kameleon Collectors Compact with Purchase of $100 or More\n\nFree Jewel Pop with Purchase of $150 or More\n\nRefreshments and Special Raffle Prizes
LOCATION:K.Hollis Jewelers
UID:e.1902.1058
SEQUENCE:3
DTSTAMP:20260421T010943Z
URL:https://business.bataviachamber.org/events/details/kameleon-trunk-show-10-24-2009-1058
END:VEVENT

END:VCALENDAR
