BEGIN:VCALENDAR
VERSION:2.0
PRODID:-//ChamberMaster//Event Calendar 2.0//EN
METHOD:PUBLISH
X-PUBLISHED-TTL:P3D
REFRESH-INTERVAL:P3D
CALSCALE:GREGORIAN
BEGIN:VEVENT
DTSTART:20111012T163000Z
DTEND:20111012T183000Z
X-MICROSOFT-CDO-ALLDAYEVENT:FALSE
SUMMARY:Joint Chamber Progressive Luncheon at Villa Olivia
DESCRIPTION:Participate in a popular and unique networking luncheon with the Bartlett\, Batavia\, Hanover Park\, St. Charles and Western DuPage Chambers of Commerce. Guests will introduce themselves over salad\, move on to another group of professionals for the main entrée and satisfy their sweet tooth while meeting a third group of potential business partners. Don't miss this opportunity to meet professionals outside the Batavia Chamber!Reservations are a must…we will not accept walk-ins. RSVP by Noon on September 30. ($25.00 members)
X-ALT-DESC;FMTTYPE=text/html:<P align=left><FONT color=#0000ff size=4>Participate in a popular and unique networking luncheon with the Bartlett\, Batavia\, Hanover Park\, St. Charles and Western DuPage Chambers of Commerce. Guests will introduce themselves over salad\, move on to another group of professionals for the main entrée and satisfy their sweet tooth while meeting a third group of potential business partners. Don't miss this opportunity to meet professionals outside the Batavia Chamber!</FONT></P><P align=left><FONT color=#0000ff size=4>Reservations are a must…we will not accept walk-ins. RSVP by Noon on September 30. ($25.00 members)</FONT></P>
LOCATION:Villa Olivia
UID:e.1902.1545
SEQUENCE:3
DTSTAMP:20260423T034552Z
URL:https://business.bataviachamber.org/events/details/joint-chamber-progressive-luncheon-at-villa-olivia-10-12-2011-1545
END:VEVENT

END:VCALENDAR
