BEGIN:VCALENDAR
VERSION:2.0
PRODID:-//ChamberMaster//Event Calendar 2.0//EN
METHOD:PUBLISH
X-PUBLISHED-TTL:P3D
REFRESH-INTERVAL:P3D
CALSCALE:GREGORIAN
BEGIN:VEVENT
DTSTART:20080305T173000Z
DTEND:20080305T193000Z
X-MICROSOFT-CDO-ALLDAYEVENT:FALSE
SUMMARY:Joint Chamber Luncheon - 08/03/05
DESCRIPTION:
X-ALT-DESC;FMTTYPE=text/html:
LOCATION:Hilton – Lisle/Naperville
UID:e.1902.1523
SEQUENCE:3
DTSTAMP:20260426T023911Z
URL:https://business.bataviachamber.org/events/details/joint-chamber-luncheon-08-03-05-03-05-2008-1523
END:VEVENT

END:VCALENDAR
