BEGIN:VCALENDAR
VERSION:2.0
PRODID:-//ChamberMaster//Event Calendar 2.0//EN
METHOD:PUBLISH
X-PUBLISHED-TTL:P3D
REFRESH-INTERVAL:P3D
CALSCALE:GREGORIAN
BEGIN:VEVENT
DTSTART:20100210T230000Z
DTEND:20100211T010000Z
X-MICROSOFT-CDO-ALLDAYEVENT:FALSE
SUMMARY:Joint Business After Hours with Sugar Grove
DESCRIPTION:On February 10\, join us for a wonderful joint after hours event with the Sugar Grove Chamber of Commerce...it's always fun to meet colleagues from other Chambers!
X-ALT-DESC;FMTTYPE=text/html:<DIV>On February 10\, join us for a wonderful joint after hours event with the&nbsp\;Sugar Grove&nbsp\;Chamber of Commerce...it's always fun to meet colleagues from other Chambers!</DIV>
LOCATION:K.Hollis Jewelers
UID:e.1902.1223
SEQUENCE:3
DTSTAMP:20260420T175514Z
URL:https://business.bataviachamber.org/events/details/joint-business-after-hours-with-sugar-grove-02-10-2010-1223
END:VEVENT

END:VCALENDAR
