BEGIN:VCALENDAR
VERSION:2.0
PRODID:-//ChamberMaster//Event Calendar 2.0//EN
METHOD:PUBLISH
X-PUBLISHED-TTL:P3D
REFRESH-INTERVAL:P3D
CALSCALE:GREGORIAN
BEGIN:VEVENT
DTSTART:20100126T230000Z
DTEND:20100127T010000Z
X-MICROSOFT-CDO-ALLDAYEVENT:FALSE
SUMMARY:Joint Business After Hours with Geneva Chamber
DESCRIPTION:On January 26\, join us for a wonderful joint after hours event with the Geneva Chamber of Commerce...it's always fun to meet colleagues from other Chambers! Visit the beautiful facilities of Delnor Glen.
X-ALT-DESC;FMTTYPE=text/html:<DIV>On January 26\, join us for a wonderful joint after hours event with the Geneva Chamber of Commerce...it's always fun to meet colleagues from other Chambers! Visit the beautiful facilities of Delnor Glen.</DIV>
LOCATION:Delnor Glen Senior Living
UID:e.1902.1222
SEQUENCE:3
DTSTAMP:20260420T195215Z
URL:https://business.bataviachamber.org/events/details/joint-business-after-hours-with-geneva-chamber-01-26-2010-1222
END:VEVENT

END:VCALENDAR
