BEGIN:VCALENDAR
VERSION:2.0
PRODID:-//ChamberMaster//Event Calendar 2.0//EN
METHOD:PUBLISH
X-PUBLISHED-TTL:P3D
REFRESH-INTERVAL:P3D
CALSCALE:GREGORIAN
BEGIN:VEVENT
DTSTART:20081001T000000Z
DTEND:20080930T050000Z
X-MICROSOFT-CDO-ALLDAYEVENT:FALSE
SUMMARY:Is This Any Way to Elect a President
DESCRIPTION:The New Lyceum Lecture Series prosented by the League of Women Voters of Batavia. Matthew Streb is Assistant Professor of Political Science at NIU and author of Rethingking American Electoral Democracy. Streb will examine several aspects of U.S. presidential elections\, including the nomination of candidates\, the Electoral College and current campaign finance laws. He argues for a system that is consistent with "one person\, one vote" and provides the opportunity for the greatest number of people to participate effectively. Please register at 630-879-4777.
X-ALT-DESC;FMTTYPE=text/html:<DIV style="FONT-FAMILY: Arial" align=left>The New Lyceum Lecture Series prosented by the League of Women Voters of Batavia.</DIV><DIV style="FONT-FAMILY: Arial" align=left>&nbsp\;</DIV><DIV style="FONT-FAMILY: Arial" align=left>Matthew Streb is Assistant Professor of Political Science at NIU and author of <EM>Rethingking American Electoral Democracy.</EM></DIV><DIV style="FONT-FAMILY: Arial" align=left>&nbsp\;</DIV><DIV style="FONT-FAMILY: Arial" align=left>Streb will examine several aspects of U.S. presidential elections\, including the nomination of candidates\, the Electoral College and current campaign finance laws. He argues for a system that is consistent with "one person\, one vote" and provides the opportunity for the greatest number of people to participate effectively. Please register at 630-879-4777.</DIV><DIV style="FONT-FAMILY: Arial">&nbsp\;</DIV>
LOCATION:Batavia Public Library
UID:e.1902.1581
SEQUENCE:3
DTSTAMP:20260422T005508Z
URL:https://business.bataviachamber.org/events/details/is-this-any-way-to-elect-a-president-09-30-2008-1581
END:VEVENT

END:VCALENDAR
