BEGIN:VCALENDAR
VERSION:2.0
PRODID:-//ChamberMaster//Event Calendar 2.0//EN
METHOD:PUBLISH
X-PUBLISHED-TTL:P3D
REFRESH-INTERVAL:P3D
CALSCALE:GREGORIAN
BEGIN:VEVENT
DTSTART:20090904T160000Z
DTEND:20090904T170000Z
X-MICROSOFT-CDO-ALLDAYEVENT:FALSE
SUMMARY:Invitations Etc. Ribbon Cutting
DESCRIPTION:Join the festivities as we welcome Invitations Etc. to Batavia. Steve and Michele Almy look forward to meeting you. Mayor Schielke will cut their ribbon at 11:00 a.m.
X-ALT-DESC;FMTTYPE=text/html:<P align=left>Join the festivities as we welcome Invitations Etc. to Batavia.&nbsp\;Steve and Michele Almy look forward to meeting you.&nbsp\;Mayor Schielke will cut their ribbon at 11:00 a.m.</P>
LOCATION:Invitations Etc.
UID:e.1902.1727
SEQUENCE:3
DTSTAMP:20260421T030739Z
URL:https://business.bataviachamber.org/events/details/invitations-etc-ribbon-cutting-09-04-2009-1727
END:VEVENT

END:VCALENDAR
