BEGIN:VCALENDAR
VERSION:2.0
PRODID:-//ChamberMaster//Event Calendar 2.0//EN
METHOD:PUBLISH
X-PUBLISHED-TTL:P3D
REFRESH-INTERVAL:P3D
CALSCALE:GREGORIAN
BEGIN:VEVENT
DTSTART:20100920T050000Z
DTEND:20100920T050000Z
X-MICROSOFT-CDO-ALLDAYEVENT:FALSE
SUMMARY:Introduction to Wine Tasting with Waubonsee Community Colleg
DESCRIPTION:This is the ultimate workout for your palate. Train your taste buds to pick out a variety of flavors\, hone your sniffing skills\, and use your eyes to tell the age of the wine. Impress your friends bylearning to taste like a pro. In the second class\, move beyond the basics to a deeper understandingof terroir\, varietals\, and the balance of a great wine. Participants will sample wines at each session September 20 & September 27 at 7 pm. Reservations required and can be made through Waubonsee Community College (630) 466-7900 or www.waubonsee.edu Classes will be held at Gibby’s Wine Den
X-ALT-DESC;FMTTYPE=text/html:This is the ultimate workout for your palate. Train your taste buds to pick out a variety of flavors\, hone your sniffing skills\, and use your eyes to tell the age of the wine. Impress your friends bylearning to taste like a pro. In the second class\, move beyond the basics to a deeper understandingof terroir\, varietals\, and the balance of a great wine. Participants will sample wines at each session September 20 & September 27 at 7 pm. Reservations required and can be made through Waubonsee Community College (630) 466-7900 or www.waubonsee.edu Classes will be held at Gibby’s Wine Den   \n
LOCATION:
UID:e.1902.38
SEQUENCE:3
DTSTAMP:20260420T061431Z
URL:https://business.bataviachamber.org/events/details/introduction-to-wine-tasting-with-waubonsee-community-colleg-09-20-2010-38
END:VEVENT

END:VCALENDAR
