BEGIN:VCALENDAR
VERSION:2.0
PRODID:-//ChamberMaster//Event Calendar 2.0//EN
METHOD:PUBLISH
X-PUBLISHED-TTL:P3D
REFRESH-INTERVAL:P3D
CALSCALE:GREGORIAN
BEGIN:VEVENT
DTSTART:20110223T060000Z
DTEND:20110223T060000Z
X-MICROSOFT-CDO-ALLDAYEVENT:FALSE
SUMMARY:Introduction to Wine Tasting with Waubonsee Community Colleg
DESCRIPTION:The ultimate workout for your palate. Train your taste buds to discern the subtle differences of varietals and wine producing regions in this two part class. For more information or to reserve your spot call Waubonsee Community College at 630-466-7900.
X-ALT-DESC;FMTTYPE=text/html:The ultimate workout for your palate. Train your taste buds to discern the subtle differences of varietals and wine producing regions in this two part class. For more information or to reserve your spot call Waubonsee Community College at 630-466-7900.
LOCATION:Gibby's Wine Den
UID:e.1902.137
SEQUENCE:3
DTSTAMP:20260423T170949Z
URL:https://business.bataviachamber.org/events/details/introduction-to-wine-tasting-with-waubonsee-community-colleg-02-23-2011-137
END:VEVENT

END:VCALENDAR
