BEGIN:VCALENDAR
VERSION:2.0
PRODID:-//ChamberMaster//Event Calendar 2.0//EN
METHOD:PUBLISH
X-PUBLISHED-TTL:P3D
REFRESH-INTERVAL:P3D
CALSCALE:GREGORIAN
BEGIN:VEVENT
DTSTART:20090209T060000Z
DTEND:20090209T060000Z
X-MICROSOFT-CDO-ALLDAYEVENT:FALSE
SUMMARY:Introduction to Wine Tasting Class
DESCRIPTION:This is the ultimate workout for your palate. Train your taste buds to pick out a variety of flavors\, hone your sniffing skills and use your eyes to tell the age of the wine. Impress your friends by learing to taste like a pro!$20/person\, reservations required.
X-ALT-DESC;FMTTYPE=text/html:This is the ultimate workout for your palate. Train your taste buds to pick out a variety of flavors\, hone your sniffing skills and use your eyes to tell the age of the wine. Impress your friends by learing to taste like a pro!$20/person\, reservations required.
LOCATION:Gibby's Wine Den
UID:e.1902.853
SEQUENCE:3
DTSTAMP:20260421T161639Z
URL:https://business.bataviachamber.org/events/details/introduction-to-wine-tasting-class-02-09-2009-853
END:VEVENT

END:VCALENDAR
