BEGIN:VCALENDAR
VERSION:2.0
PRODID:-//ChamberMaster//Event Calendar 2.0//EN
METHOD:PUBLISH
X-PUBLISHED-TTL:P3D
REFRESH-INTERVAL:P3D
CALSCALE:GREGORIAN
BEGIN:VEVENT
DTSTART:20100202T060000Z
DTEND:20100202T060000Z
X-MICROSOFT-CDO-ALLDAYEVENT:FALSE
SUMMARY:Introduction to Mental Health Consultation
DESCRIPTION:Do you have a child age 0-5 in daycare\, or are you a daycare provider of children 0-5?  \n\nIf you have ever had a question about the social\, emotional\, behavioral\, or developmental growth of a 0-5 year old child in childcare\, then come to this training to explore the free services and support offered to childcare centers and home providers through the Caregiver Connections program.  \n\n"Introduction to Mental Health Consultation" will be presented on Tuesday\, February 2\, 2010 from 7:00 - 9:00 PM at the TriCity Family Services offices\, located at 1120 Randall Ct. Geneva\, IL 60134.\n\nTriCity Family Services Early Childhood Mental Health Consultant\, Mandy Semenik\, MS\, LPC\, will present this topic geared toward parents and childcare providers of 0-5 year old children.  2.0 in-service hours are available for childcare providers.  \n\nAdvance registration is preferred.  Call TriCity Family Services to register at 630-232-1070.  Entrance fee is $5 per attendee.  Fee waivers areavailable based on need.
X-ALT-DESC;FMTTYPE=text/html:Do you have a child age 0-5 in daycare\, or are you a daycare provider of children 0-5?  \n\nIf you have ever had a question about the social\, emotional\, behavioral\, or developmental growth of a 0-5 year old child in childcare\, then come to this training to explore the free services and support offered to childcare centers and home providers through the Caregiver Connections program.  \n\n"Introduction to Mental Health Consultation" will be presented on Tuesday\, February 2\, 2010 from 7:00 - 9:00 PM at the TriCity Family Services offices\, located at 1120 Randall Ct. Geneva\, IL 60134.\n\nTriCity Family Services Early Childhood Mental Health Consultant\, Mandy Semenik\, MS\, LPC\, will present this topic geared toward parents and childcare providers of 0-5 year old children.  2.0 in-service hours are available for childcare providers.  \n\nAdvance registration is preferred.  Call TriCity Family Services to register at 630-232-1070.  Entrance fee is $5 per attendee.  Fee waivers areavailable based on need. \n
LOCATION:TriCity Family Services
UID:e.1902.1099
SEQUENCE:3
DTSTAMP:20260420T175534Z
URL:https://business.bataviachamber.org/events/details/introduction-to-mental-health-consultation-02-02-2010-1099
END:VEVENT

END:VCALENDAR
