BEGIN:VCALENDAR
VERSION:2.0
PRODID:-//ChamberMaster//Event Calendar 2.0//EN
METHOD:PUBLISH
X-PUBLISHED-TTL:P3D
REFRESH-INTERVAL:P3D
CALSCALE:GREGORIAN
BEGIN:VEVENT
DTSTART:20080920T200000Z
DTEND:20080920T233000Z
X-MICROSOFT-CDO-ALLDAYEVENT:FALSE
SUMMARY:Immanuel Oktoberfest
DESCRIPTION:The community is invited to attend this annual celebration of Immanuel’s German heritage. There will be free games and prizes for this kids…including an inflatible obstacle course\, castle\, and jumping game\, live music\, and a homemade Brat & Kraut dinner featuring Pastor Ron Weidler’s family recipe sauerkraut. (A free will offering is requested for dinner.) Olivewood Products from the Holy Land will be on hand offering their beautiful carvings made by hand by Christian Palestinians in Bethlehem. Traditional worship service follows at 6:30 p.m. Call 630.879.7163 to learn more.
X-ALT-DESC;FMTTYPE=text/html:<P class=MsoNormal align=left><FONT face="Times New Roman" size=3><SPAN style="FONT-SIZE: 10pt\; FONT-FAMILY: Arial">The community is invited to attend this annual celebration of Immanuel’s German heritage. There will be free games and prizes for this kids…including an inflatible obstacle course\, castle\, and jumping game\, live music\, and a homemade Brat &amp\; Kraut dinner featuring Pastor Ron Weidler’s family recipe sauerkraut. (A free will offering is requested for dinner.) Olivewood Products from the Holy Land will be on hand offering their beautiful carvings made by hand by Christian Palestinians in Bethlehem. Traditional worship service follows at 6:30 p.m. </SPAN></FONT></P><P class=MsoNormal align=left><FONT face="Times New Roman" size=3><SPAN style="FONT-SIZE: 10pt\; FONT-FAMILY: Arial">Call 630.879.7163 to learn more.</SPAN></FONT></P>
LOCATION:Immanuel Lutheran Church
UID:e.1902.1578
SEQUENCE:3
DTSTAMP:20260422T005509Z
URL:https://business.bataviachamber.org/events/details/immanuel-oktoberfest-09-20-2008-1578
END:VEVENT

END:VCALENDAR
