BEGIN:VCALENDAR
VERSION:2.0
PRODID:-//ChamberMaster//Event Calendar 2.0//EN
METHOD:PUBLISH
X-PUBLISHED-TTL:P3D
REFRESH-INTERVAL:P3D
CALSCALE:GREGORIAN
BEGIN:VEVENT
DTSTART:20081026T140000Z
DTEND:20081026T180000Z
X-MICROSOFT-CDO-ALLDAYEVENT:FALSE
SUMMARY:Immanuel Health Fair
DESCRIPTION:More than 40 health care professionals\, agencies and vendors have agreed to participate. Immanuel’s nurses will provide blood pressure checks. Among the exhibitors and vendors are Dr. John Murphy providing dental screenings\, the American Cancer Society\, American Heart Association\, and the Campaign for Tobacco-Free KidsDelnor-Community Hospital\, Provena Mercy Hospital\, Rush-Copley Hospital\, Central DuPage Hospital and Edward Hospital\, Lutheran Home and Services\, the Elderday Center\, Northeastern Illinois Area Agency on AgingBatavia Fire Police Departments\, The Health Awareness Foundation will provide spinal screenings\, Acupuncturist Mavis Bates\, Darlene Marcusson of Lazarus House will have information on the Tri-Cities homeless shelter and its programs for women\, children and families\, Centennial Counseling\, TriCities Family Services\, Linden Oaks\, and Suicide Prevention Services\, Fox Valley Volunteer Hospice\, Fitness and exercise information from Curves in Batavia\, and Inner Element\, a Pilates and fitness program\, Fox Valley Dog Therapy Club\, and bicycle safety tips from Prairie Pathways in Batavia. Call 630.879.7163 to learn more
X-ALT-DESC;FMTTYPE=text/html:<FONT face="Times New Roman" size=3><SPAN style="FONT-SIZE: 10pt\; FONT-FAMILY: Arial"><P class=MsoNormal align=left><FONT face=Arial size=2><SPAN style="FONT-SIZE: 10pt\; FONT-FAMILY: Arial">More than 40 health care professionals\, agencies and vendors have agreed to participate. Immanuel’s nurses will provide blood pressure checks. </SPAN>Among the exhibitors and vendors are Dr. John Murphy providing dental screenings</SPAN><SPAN>\, the American Cancer Society\, American Heart Association\, and the Campaign for Tobacco-Free Kids</SPAN></FONT></P></SPAN><P class=MsoNormal style="mso-level-font-family: Symbol\; mso-level-indent: 0pt\; mso-level-size: 12pt" align=left><SPAN><FONT face=Arial size=2><SPAN style="FONT-SIZE: 10pt\; FONT-FAMILY: Arial">Delnor-Community Hospital\, Provena Mercy Hospital\, Rush-Copley Hospital\, Central DuPage Hospital and Edward Hospital\, Lutheran Home and Services\, the Elderday Center\, Northeastern Illinois Area Agency on Aging</SPAN></FONT></P></SPAN><P class=MsoNormal style="mso-level-font-family: Symbol\; mso-level-indent: 0pt\; mso-level-size: 12pt" align=left><SPAN><FONT face=Arial size=2><SPAN style="FONT-SIZE: 10pt\; FONT-FAMILY: Arial">Batavia Fire Police Departments\, The Health Awareness Foundation will provide spinal screenings\, Acupuncturist Mavis Bates\, Darlene Marcusson of </SPAN><SPAN>Lazarus House will have information on the Tri-Cities homeless shelter and its programs for women\, children and families\, Centennial Counseling\, TriCities Family Services\, Linden Oaks\, and Suicide Prevention Services\, Fox Valley Volunteer Hospice\, Fitness and exercise information from Curves in Batavia\, and Inner Element\, a Pilates and fitness program\, Fox Valley Dog Therapy Club\, and bicycle safety tips from Prairie Pathways in Batavia. </SPAN></FONT></SPAN></P><P class=MsoNormal style="mso-level-font-family: Symbol\; mso-level-indent: 0pt\; mso-level-size: 12pt" align=left><SPAN><FONT face=Arial size=2><SPAN>Call 630.879.7163 to learn more</SPAN></FONT></SPAN></P></SPAN></FONT>
LOCATION:Immanuel Lutheran Church
UID:e.1902.1599
SEQUENCE:3
DTSTAMP:20260421T230257Z
URL:https://business.bataviachamber.org/events/details/immanuel-health-fair-10-26-2008-1599
END:VEVENT

END:VCALENDAR
