BEGIN:VCALENDAR
VERSION:2.0
PRODID:-//ChamberMaster//Event Calendar 2.0//EN
METHOD:PUBLISH
X-PUBLISHED-TTL:P3D
REFRESH-INTERVAL:P3D
CALSCALE:GREGORIAN
BEGIN:VEVENT
DTSTART:20100326T130000Z
DTEND:20100326T210000Z
X-MICROSOFT-CDO-ALLDAYEVENT:FALSE
SUMMARY:IGNITE a Bright Future for Batavia
DESCRIPTION:Join us as we identify and build on the tremendous assets and capacities that are the basic fabric of Batavia. Meet other community leaders\, and find a place to contribute your talents and abilities to create a bright future for generations yet unborn!
X-ALT-DESC;FMTTYPE=text/html:<DIV align=left><SPAN class=UIStory_Message><FONT color=#800000 size=4>Join us as we identify and build on the tremendous assets and capacities that are the basic fabric of Batavia. Meet other community leaders\, and find a place to contribute your talents and abilities to create a bright future for generations yet unborn!</FONT></SPAN></DIV>
LOCATION:Waubonsee Community College - APC
UID:e.1902.1419
SEQUENCE:3
DTSTAMP:20260420T162017Z
URL:https://business.bataviachamber.org/events/details/ignite-a-bright-future-for-batavia-03-26-2010-1419
END:VEVENT

END:VCALENDAR
