BEGIN:VCALENDAR
VERSION:2.0
PRODID:-//ChamberMaster//Event Calendar 2.0//EN
METHOD:PUBLISH
X-PUBLISHED-TTL:P3D
REFRESH-INTERVAL:P3D
CALSCALE:GREGORIAN
BEGIN:VEVENT
DTSTART:20110428T050000Z
DTEND:20110428T050000Z
X-MICROSOFT-CDO-ALLDAYEVENT:FALSE
SUMMARY:Identity Theft and Senior Fraud Seminar
DESCRIPTION:Please join us for this informative seminar on Identity Theft and Senior Fraud. Our guest speakers will be Steven Prosser from the U.S. Marshalls Service and an agent from the Illinois State Crimes Unit. \n\nSeating is limited. You can secure a spot by calling 630-879-8464. \n\nThis event is being hosted by Masus Financial Group\, Ltd.
X-ALT-DESC;FMTTYPE=text/html:Please join us for this informative seminar on Identity Theft and Senior Fraud. Our guest speakers will be Steven Prosser from the U.S. Marshalls Service and an agent from the Illinois State Crimes Unit. \n\nSeating is limited. You can secure a spot by calling 630-879-8464. \n\nThis event is being hosted by Masus Financial Group\, Ltd. \n
LOCATION:Batavia Public Library
UID:e.1902.207
SEQUENCE:3
DTSTAMP:20260419T181127Z
URL:https://business.bataviachamber.org/events/details/identity-theft-and-senior-fraud-seminar-04-28-2011-207
END:VEVENT

END:VCALENDAR
