BEGIN:VCALENDAR
VERSION:2.0
PRODID:-//ChamberMaster//Event Calendar 2.0//EN
METHOD:PUBLISH
X-PUBLISHED-TTL:P3D
REFRESH-INTERVAL:P3D
CALSCALE:GREGORIAN
BEGIN:VEVENT
DTSTART:20090809T050000Z
DTEND:20090809T050000Z
X-MICROSOFT-CDO-ALLDAYEVENT:FALSE
SUMMARY:Ice Cream Social
DESCRIPTION:An old-fashioned Ice Cream Social for the whole family!  Join us on the Calvary front lawn for sweettreats!  In case of rain\, we'll move the fun indoors. Everyone welcome - admission is free!
X-ALT-DESC;FMTTYPE=text/html:An old-fashioned Ice Cream Social for the whole family!  Join us on the Calvary front lawn for sweettreats!  In case of rain\, we'll move the fun indoors. Everyone welcome - admission is free!
LOCATION:Calvary Episcopal Church
UID:e.1902.977
SEQUENCE:3
DTSTAMP:20260421T051727Z
URL:https://business.bataviachamber.org/events/details/ice-cream-social-08-09-2009-977
END:VEVENT

END:VCALENDAR
