BEGIN:VCALENDAR
VERSION:2.0
PRODID:-//ChamberMaster//Event Calendar 2.0//EN
METHOD:PUBLISH
X-PUBLISHED-TTL:P3D
REFRESH-INTERVAL:P3D
CALSCALE:GREGORIAN
BEGIN:VEVENT
DTSTART:20100228T060000Z
DTEND:20100228T060000Z
X-MICROSOFT-CDO-ALLDAYEVENT:FALSE
SUMMARY:I HEART HAITI
DESCRIPTION:More than 30 vendors will provide a tremendous array of products and services\, including jewelry\, fashion accessories\, make-up and skin care\, home décor\, cooking\, storage and kitchen items\, unique gifts\, food and drink mixes\, nutritional items\, photography\, rain barrels\, chiropractic services\, clothing and more.\n\n	Proceeds from “I Heart Haiti” will go to Lutheran Church Charities (LCC)\, an Illinois-based agency that has become a leader in disaster response.   LCC utilizes its long-establishednetwork of Lutheran supporters and congregations to serve well beyond that faith community\, and itsunique pass-through "Dollar-In\, Dollar-Out" program guarantees that 100% of donations to Haiti go directly to that cause.\n\n	On the day of the event\, Lincoln Inn will extend its popular Sunday brunch\, offering it from 9 a.m. to 2:00 p.m.\, and will donate $1 for each brunch purchased between noon and 2:00.
X-ALT-DESC;FMTTYPE=text/html:More than 30 vendors will provide a tremendous array of products and services\, including jewelry\, fashion accessories\, make-up and skin care\, home décor\, cooking\, storage and kitchen items\, unique gifts\, food and drink mixes\, nutritional items\, photography\, rain barrels\, chiropractic services\, clothing and more.\n\n	Proceeds from “I Heart Haiti” will go to Lutheran Church Charities (LCC)\, an Illinois-based agency that has become a leader in disaster response.   LCC utilizes its long-establishednetwork of Lutheran supporters and congregations to serve well beyond that faith community\, and itsunique pass-through "Dollar-In\, Dollar-Out" program guarantees that 100% of donations to Haiti go directly to that cause.\n\n	On the day of the event\, Lincoln Inn will extend its popular Sunday brunch\, offering it from 9 a.m. to 2:00 p.m.\, and will donate $1 for each brunch purchased between noon and 2:00. \n\n
LOCATION:Lincoln Inn
UID:e.1902.1114
SEQUENCE:3
DTSTAMP:20260420T180352Z
URL:https://business.bataviachamber.org/events/details/i-heart-haiti-02-28-2010-1114
END:VEVENT

END:VCALENDAR
