BEGIN:VCALENDAR
VERSION:2.0
PRODID:-//ChamberMaster//Event Calendar 2.0//EN
METHOD:PUBLISH
X-PUBLISHED-TTL:P3D
REFRESH-INTERVAL:P3D
CALSCALE:GREGORIAN
BEGIN:VEVENT
DTSTART:20101014T050000Z
DTEND:20101018T050000Z
X-MICROSOFT-CDO-ALLDAYEVENT:FALSE
SUMMARY:Hubbard's Centennial Event
DESCRIPTION:Thank you for welcoming Hubbard's into your home for 100 years. To celebrate a century of special memories\, we would like to welcome you with some special offers.
X-ALT-DESC;FMTTYPE=text/html:Thank you for welcoming Hubbard's into your home for 100 years. To celebrate a century of special memories\, we would like to welcome you with some special offers.
LOCATION:Hubbard's Ethan Allen
UID:e.1902.77
SEQUENCE:3
DTSTAMP:20260420T060345Z
URL:https://business.bataviachamber.org/events/details/hubbard-s-centennial-event-10-14-2010-77
END:VEVENT

END:VCALENDAR
