BEGIN:VCALENDAR
VERSION:2.0
PRODID:-//ChamberMaster//Event Calendar 2.0//EN
METHOD:PUBLISH
X-PUBLISHED-TTL:P3D
REFRESH-INTERVAL:P3D
CALSCALE:GREGORIAN
BEGIN:VEVENT
DTSTART:20200219T223000Z
DTEND:20200219T233000Z
X-MICROSOFT-CDO-ALLDAYEVENT:FALSE
SUMMARY:Hot Yoga (pop up class) $5
DESCRIPTION:THIS WEDNESDAY! 4:30pm. Pop up class with guest teacher Kathryn Lanute! Her energy is uplifting and her vibe is chill. Her class will excite and challenge in a heated room   $5 donation  Please register online #somastudiobatavia #bataviaIL #genevaIL #downtownbatavia #bikramyoga #hotyoga #somayoga
X-ALT-DESC;FMTTYPE=text/html:<h2>THIS WEDNESDAY! 4:30pm. Pop up class with guest teacher Kathryn Lanute! Her energy is uplifting and her vibe is chill. Her class will excite and challenge in a heated room &bull\; $5 donation&bull\; Please register online #somastudiobatavia #bataviaIL #genevaIL #downtownbatavia #bikramyoga #hotyoga #somayoga</h2>\n
LOCATION:7 N RIVER ST BATAVIA
UID:e.1902.12082
SEQUENCE:3
DTSTAMP:20260422T232739Z
URL:https://business.bataviachamber.org/events/details/hot-yoga-pop-up-class-5-12082
END:VEVENT

END:VCALENDAR
