BEGIN:VCALENDAR
VERSION:2.0
PRODID:-//ChamberMaster//Event Calendar 2.0//EN
METHOD:PUBLISH
X-PUBLISHED-TTL:P3D
REFRESH-INTERVAL:P3D
CALSCALE:GREGORIAN
BEGIN:VEVENT
DTSTART:20091004T050000Z
DTEND:20091004T050000Z
X-MICROSOFT-CDO-ALLDAYEVENT:FALSE
SUMMARY:Honoring Batavia's Fire Fighters and Police Officers
DESCRIPTION:Calvary Episcopal Church invites the community to meet and say thank you to the men and women of Batavia's Police and Fire Departments at an informal dessert reception.  Please call or e-mail Calvaryif attending to help plan for refreshments. A freewill offering will be taken\, with proceeds going to the Batavia Emergency Fund.
X-ALT-DESC;FMTTYPE=text/html:Calvary Episcopal Church invites the community to meet and say thank you to the men and women of Batavia's Police and Fire Departments at an informal dessert reception.  Please call or e-mail Calvaryif attending to help plan for refreshments. A freewill offering will be taken\, with proceeds going to the Batavia Emergency Fund.
LOCATION:Calvary Episcopal Church
UID:e.1902.1027
SEQUENCE:3
DTSTAMP:20260421T030023Z
URL:https://business.bataviachamber.org/events/details/honoring-batavia-s-fire-fighters-and-police-officers-10-04-2009-1027
END:VEVENT

END:VCALENDAR
