BEGIN:VCALENDAR
VERSION:2.0
PRODID:-//ChamberMaster//Event Calendar 2.0//EN
METHOD:PUBLISH
X-PUBLISHED-TTL:P3D
REFRESH-INTERVAL:P3D
CALSCALE:GREGORIAN
BEGIN:VEVENT
DTSTART:20090516T050000Z
DTEND:20090516T050000Z
X-MICROSOFT-CDO-ALLDAYEVENT:FALSE
SUMMARY:Honeymoon & Destination Weddings
DESCRIPTION:Join us for a lively presentation uncovering the secrets to Romantic getaways. We'll also preview AMResorts\, which includes Dreams\, Secrets and Zoetry in the Caribbean and Mexico. We will also have the following guests present:\nVeiled in Elegance presenting Bridal Wear and Elizabeth Wray Design presenting Floral Designs.\nPlease RSVP by May 12th 2009.
X-ALT-DESC;FMTTYPE=text/html:Join us for a lively presentation uncovering the secrets to Romantic getaways. We'll also preview AMResorts\, which includes Dreams\, Secrets and Zoetry in the Caribbean and Mexico. We will also have the following guests present:\nVeiled in Elegance presenting Bridal Wear and Elizabeth Wray Design presenting Floral Designs.\nPlease RSVP by May 12th 2009.
LOCATION:AAA Geneva
UID:e.1902.945
SEQUENCE:3
DTSTAMP:20260421T103936Z
URL:https://business.bataviachamber.org/events/details/honeymoon-destination-weddings-05-16-2009-945
END:VEVENT

END:VCALENDAR
