BEGIN:VCALENDAR
VERSION:2.0
PRODID:-//ChamberMaster//Event Calendar 2.0//EN
METHOD:PUBLISH
X-PUBLISHED-TTL:P3D
REFRESH-INTERVAL:P3D
CALSCALE:GREGORIAN
BEGIN:VEVENT
DTSTART:20081119T000000Z
DTEND:20081119T023000Z
X-MICROSOFT-CDO-ALLDAYEVENT:FALSE
SUMMARY:Home for the Holidays Cooking & Networking! (CANCELLED)
DESCRIPTION:
X-ALT-DESC;FMTTYPE=text/html:<DIV style="FONT-FAMILY: Arial" align=left>&nbsp\;</DIV>
LOCATION:
UID:e.1902.1609
SEQUENCE:3
DTSTAMP:20260421T211515Z
URL:https://business.bataviachamber.org/events/details/home-for-the-holidays-cooking-networking-cancelled-11-18-2008-1609
END:VEVENT

END:VCALENDAR
