BEGIN:VCALENDAR
VERSION:2.0
PRODID:-//ChamberMaster//Event Calendar 2.0//EN
METHOD:PUBLISH
X-PUBLISHED-TTL:P3D
REFRESH-INTERVAL:P3D
CALSCALE:GREGORIAN
BEGIN:VEVENT
DTSTART:20101205T060000Z
DTEND:20101205T060000Z
X-MICROSOFT-CDO-ALLDAYEVENT:FALSE
SUMMARY:''Home for the Holidays''
DESCRIPTION:Start the holidays right with one of the most highly-anticipated events of the season – Fox Valley Concert Band’s Holiday Concert. “Home for the Holidays” will be presented in the band’s new performance venue\, the beautiful Norris Cultural Arts Center\, on Sunday\, December 5\, at 3:00 p.m. As always\,the concert is free and seating is on a first-come\, first-served basis.\n	Now in its 28th season\, Fox Valley Concert Band is the area’s leading community wind ensemble\, and has grown to a membership of more than 80 musicians\, representing nearly 30 communities from throughout northern Illinois. Itswide-ranging repertoire includes band and wind ensemble classics\, as well as contemporary works.\n	Since its founding in 1978\, the Dellora A. Norris Cultural Arts Center has provided a world-classvisual and performing arts venue for the enjoyment of the residents of the Fox Valley and NorthernIllinois.\n	FVCB’s 2010-11 season will include two additional performances at Norris\, both Sunday matinees at 3:00 p.m.: “Salute to Youth” on March 6 and “Conductor Highlights” on May 8. The Norris Center is located at 1040 Dunham Road in St. Charles. \n	For further information about the Fox ValleyConcert Band\, please call 847-695-7096 or visit the band’s website: www.fvcb.org.
X-ALT-DESC;FMTTYPE=text/html:Start the holidays right with one of the most highly-anticipated events of the season – Fox Valley Concert Band’s Holiday Concert. “Home for the Holidays” will be presented in the band’s new performance venue\, the beautiful Norris Cultural Arts Center\, on Sunday\, December 5\, at 3:00 p.m. As always\,the concert is free and seating is on a first-come\, first-served basis.\n	Now in its 28th season\, Fox Valley Concert Band is the area’s leading community wind ensemble\, and has grown to a membership of more than 80 musicians\, representing nearly 30 communities from throughout northern Illinois. Itswide-ranging repertoire includes band and wind ensemble classics\, as well as contemporary works.\n	Since its founding in 1978\, the Dellora A. Norris Cultural Arts Center has provided a world-classvisual and performing arts venue for the enjoyment of the residents of the Fox Valley and NorthernIllinois.\n	FVCB’s 2010-11 season will include two additional performances at Norris\, both Sunday matinees at 3:00 p.m.: “Salute to Youth” on March 6 and “Conductor Highlights” on May 8. The Norris Center is located at 1040 Dunham Road in St. Charles. \n	For further information about the Fox ValleyConcert Band\, please call 847-695-7096 or visit the band’s website: www.fvcb.org.\n
LOCATION:Norris Cultural Arts Center
UID:e.1902.103
SEQUENCE:3
DTSTAMP:20260420T021810Z
URL:https://business.bataviachamber.org/events/details/home-for-the-holidays-12-05-2010-103
END:VEVENT

END:VCALENDAR
