BEGIN:VCALENDAR
VERSION:2.0
PRODID:-//ChamberMaster//Event Calendar 2.0//EN
METHOD:PUBLISH
X-PUBLISHED-TTL:P3D
REFRESH-INTERVAL:P3D
CALSCALE:GREGORIAN
BEGIN:VEVENT
DTSTART:20091121T060000Z
DTEND:20091121T060000Z
X-MICROSOFT-CDO-ALLDAYEVENT:FALSE
SUMMARY:Holiday Wine Tasting Experience
DESCRIPTION:Come attend a Holiday Wine Experience\, a Wine Tasting\, Sale and Silent Auction to Benefit Elderday Center\, an Adult Day Program located in Batavia. The Holiday Wine Experience will be held on Saturday\, November 21\, 2009 at 6:30 pm and will be held at Park National Bank\, 808 W. State Street in Geneva. The evening will include delicious appetizers and music by Sam Dicesare & The People of Swing. Wines will be provided by Gibby’s Wine Den. The Donation is $25 in advance or $30 at the door. PleaseRSVP to Micki Miller at Elderday Center at 761-9750 or to Gay Vacek at 377-9909. Wine will be soldby the Bottle\, Half Case and Case and will be available as gifts for the holidays. Visa\, MasterCard and American Express will be accepted for the purchase of the wine and silent auction items on thenight of the tasting. Get your reservation in early as tickets are going quickly. Come support aworthwhile cause and get your holiday shopping done all at one time! Cheers!
X-ALT-DESC;FMTTYPE=text/html:Come attend a Holiday Wine Experience\, a Wine Tasting\, Sale and Silent Auction to Benefit Elderday Center\, an Adult Day Program located in Batavia. The Holiday Wine Experience will be held on Saturday\, November 21\, 2009 at 6:30 pm and will be held at Park National Bank\, 808 W. State Street in Geneva. The evening will include delicious appetizers and music by Sam Dicesare &amp\; The People of Swing. Wines will be provided by Gibby’s Wine Den. The Donation is $25 in advance or $30 at the door. PleaseRSVP to Micki Miller at Elderday Center at 761-9750 or to Gay Vacek at 377-9909. Wine will be soldby the Bottle\, Half Case and Case and will be available as gifts for the holidays. Visa\, MasterCard and American Express will be accepted for the purchase of the wine and silent auction items on thenight of the tasting. Get your reservation in early as tickets are going quickly. Come support aworthwhile cause and get your holiday shopping done all at one time! Cheers!
LOCATION:Park National Bank
UID:e.1902.1062
SEQUENCE:3
DTSTAMP:20260420T231746Z
URL:https://business.bataviachamber.org/events/details/holiday-wine-tasting-experience-11-21-2009-1062
END:VEVENT

END:VCALENDAR
