BEGIN:VCALENDAR
VERSION:2.0
PRODID:-//ChamberMaster//Event Calendar 2.0//EN
METHOD:PUBLISH
X-PUBLISHED-TTL:P3D
REFRESH-INTERVAL:P3D
CALSCALE:GREGORIAN
BEGIN:VEVENT
DTSTART:20081123T003000Z
DTEND:20081122T060000Z
X-MICROSOFT-CDO-ALLDAYEVENT:FALSE
SUMMARY:Holiday Wine Experience to benefit the Elderday Center
DESCRIPTION:Come attend a Holiday Wine Experience\, a Wine Tasting\, Sale and Silent Auction to benefit Elderday Center\, an Adult Day Program located in Batavia.   The evening will include delicious appetizers and music by Kate Foley and the Jazz Kickers.  Wines will be provided by Gibby's Wine Den.  The donation is $25 in advance or $30 at the door.   Please RSVP to Micki Miller at Elderday Center at 761-9750 or to Gay Vacek at 377-9909.  Wine will be sold by the Bottle\, Half Case and Case and will be available as gifts for the holidays.  Visa\, MasterCard and American Express will be accepted for the purchase of the wine and silent auction items on the night of the tasting.  Get your reservation in early as tickets are going quickly.   Come support a worthwhile cause and get your holiday shopping done all at one time!  Cheers!
X-ALT-DESC;FMTTYPE=text/html:<DIV style="FONT-FAMILY: Arial" align=left><DIV>Come attend a Holiday Wine Experience\, a Wine Tasting\, Sale and Silent Auction to benefit Elderday Center\, an Adult Day Program located in Batavia.&nbsp\; </DIV><DIV>&nbsp\;</DIV><DIV>The evening will include delicious appetizers and music by Kate Foley and the Jazz Kickers.&nbsp\; Wines will be provided by <FONT color=#ff0000>Gibby's Wine Den</FONT>.&nbsp\; The donation is $25 in advance or $30 at the door.&nbsp\; </DIV><DIV>&nbsp\;</DIV><DIV>Please RSVP to Micki Miller at Elderday Center at 761-9750 or to Gay Vacek at 377-9909.&nbsp\; Wine will be sold by the Bottle\, Half Case and Case and will be available as gifts for the holidays.&nbsp\; Visa\, MasterCard and American Express will be accepted for the purchase of the wine and silent auction items on the night of the tasting.&nbsp\; Get your reservation in early as tickets are going quickly.&nbsp\; </DIV><DIV>&nbsp\;</DIV><DIV>Come support a worthwhile cause and get your holiday shopping done all at one time!&nbsp\; Cheers!</DIV></WMFILTERED></DIV>
LOCATION:Park National Bank
UID:e.1902.1611
SEQUENCE:3
DTSTAMP:20260421T211721Z
URL:https://business.bataviachamber.org/events/details/holiday-wine-experience-to-benefit-the-elderday-center-11-22-2008-1611
END:VEVENT

END:VCALENDAR
