BEGIN:VCALENDAR
VERSION:2.0
PRODID:-//ChamberMaster//Event Calendar 2.0//EN
METHOD:PUBLISH
X-PUBLISHED-TTL:P3D
REFRESH-INTERVAL:P3D
CALSCALE:GREGORIAN
BEGIN:VEVENT
DTSTART:20091208T060000Z
DTEND:20091208T060000Z
X-MICROSOFT-CDO-ALLDAYEVENT:FALSE
SUMMARY:Holiday Shopping Night
DESCRIPTION:Eagle Brook Country Club Presents...\nHoliday Shopping Night\nCome to Eagle Brook to purchase holiday gifts\, enjoy complimentary hors d' oeuvres and cash bar.
X-ALT-DESC;FMTTYPE=text/html:Eagle Brook Country Club Presents...\nHoliday Shopping Night\nCome to Eagle Brook to purchase holiday gifts\, enjoy complimentary hors d' oeuvres and cash bar.
LOCATION:Eagle Brook Country Club
UID:e.1902.1078
SEQUENCE:3
DTSTAMP:20260424T174730Z
URL:https://business.bataviachamber.org/events/details/holiday-shopping-night-12-08-2009-1078
END:VEVENT

END:VCALENDAR
