BEGIN:VCALENDAR
VERSION:2.0
PRODID:-//ChamberMaster//Event Calendar 2.0//EN
METHOD:PUBLISH
X-PUBLISHED-TTL:P3D
REFRESH-INTERVAL:P3D
CALSCALE:GREGORIAN
BEGIN:VEVENT
DTSTART:20101216T060000Z
DTEND:20101216T060000Z
X-MICROSOFT-CDO-ALLDAYEVENT:FALSE
SUMMARY:Holiday Open House & Fundraiser
DESCRIPTION:Browse a variety of hand-crafted jewelry created by local jewelry designer Nancy Neill\, or visit thecharm bar where you can design a personalized charm bracelet or necklace. A selection of holiday pieces will also be on hand. \n\nJewelry is designed by Nancy and assembled by Batavia High School artstudents. All items are affordably priced from $5 to $50\, and a portion of the proceeds will be goto the Batavia Parks Foundation. Light refreshments will be served. For more information please call630.777.7640.
X-ALT-DESC;FMTTYPE=text/html:Browse a variety of hand-crafted jewelry created by local jewelry designer Nancy Neill\, or visit thecharm bar where you can design a personalized charm bracelet or necklace. A selection of holiday pieces will also be on hand. \n\nJewelry is designed by Nancy and assembled by Batavia High School artstudents. All items are affordably priced from $5 to $50\, and a portion of the proceeds will be goto the Batavia Parks Foundation. Light refreshments will be served. For more information please call630.777.7640.
LOCATION:Challenge Lofts
UID:e.1902.107
SEQUENCE:3
DTSTAMP:20260420T023726Z
URL:https://business.bataviachamber.org/events/details/holiday-open-house-fundraiser-12-16-2010-107
END:VEVENT

END:VCALENDAR
