BEGIN:VCALENDAR
VERSION:2.0
PRODID:-//ChamberMaster//Event Calendar 2.0//EN
METHOD:PUBLISH
X-PUBLISHED-TTL:P3D
REFRESH-INTERVAL:P3D
CALSCALE:GREGORIAN
BEGIN:VEVENT
DTSTART:20081122T160000Z
DTEND:20081122T220000Z
X-MICROSOFT-CDO-ALLDAYEVENT:FALSE
SUMMARY:Holiday Open House at Rose Photo Studio and The Red Geranium
DESCRIPTION:This open house is a fund raiser to support local animal shelters. There will be Food\, Prizes and Fun for all.  Please bring a friend or two.\n\nYou'll be able to purchase raffle tickets that support the shelters and have a chance to win some fantastic prizes.\n\nTo celebrate their new location\, Rose Photo Studio will also have a Holiday Special on Pet Portraits the entire month of November.  If you bring an unopened pet food donation your sitting fee will be waived or you may pay a special $10 sitting fee which 100% will be donated. Schedule your appointment before or at the open house on November 22 and you will receive a Free 5x7 print with purchase. Holiday cards are  \nalso available.\n\nA portion of any sales at the Red Geranium from November 22 - November 30 will donated to the shelter as well.  Don't miss their unique holiday gift selection.\n\nDon't miss this opportunity for a fun filled day that will help our precious furry friends have a wonderful holiday season too!\n\nVisit www.holidayopenhouse.info or call 630-326-9007 for more details.
X-ALT-DESC;FMTTYPE=text/html:<P class=MsoNormal style="MARGIN: 0in 0in 0pt\; FONT-FAMILY: Arial" align=left><SPAN style="FONT-SIZE: 9pt\; FONT-FAMILY: 'Courier New'"><FONT face="Times New Roman"><FONT size=4>This open house is a fund raiser to support local animal shelters. There will be Food\, Prizes and Fun for all.&nbsp\; Please bring a friend or&nbsp\;two.<BR><BR>You'll be able to purchase raffle tickets that support the shelters&nbsp\;and have a chance to win some fantastic prizes.<BR><BR>To celebrate their new location\, <FONT color=#ff0000>Rose Photo Studio</FONT> will also have a&nbsp\;Holiday Special on Pet Portraits the entire month of November.&nbsp\; If you&nbsp\;bring an unopened pet food donation your sitting fee will be waived or&nbsp\;you may pay a special $10 sitting fee which 100% will be donated.&nbsp\;Schedule your appointment before or at the open house on November 22&nbsp\;and you will receive a Free 5x7 print with purchase. <?xml:namespace prefix = st1 ns = "urn:schemas-microsoft-com:office:smarttags" /><st1:place w:st="on">Holiday</st1:place> cards are&nbsp\; <BR>also available.<BR><BR>A portion of any sales at the Red Geranium from November 22 - November&nbsp\;30 will donated to the shelter as well.&nbsp\; Don't miss their unique&nbsp\;holiday gift selection.<BR><BR>Don't miss this opportunity for a fun filled day that will help our&nbsp\;precious furry friends have a wonderful holiday season too!<BR><BR>Visit www.holidayopenhouse.info or call 630-326-9007 for more details.<?xml:namespace prefix = o ns = "urn:schemas-microsoft-com:office:office" /><o:p></o:p></FONT></FONT></SPAN></P>
LOCATION:Rose Photo Studio and The Red Geranium
UID:e.1902.1612
SEQUENCE:3
DTSTAMP:20260421T211744Z
URL:https://business.bataviachamber.org/events/details/holiday-open-house-at-rose-photo-studio-and-the-red-geranium-11-22-2008-1612
END:VEVENT

END:VCALENDAR
