BEGIN:VCALENDAR
VERSION:2.0
PRODID:-//ChamberMaster//Event Calendar 2.0//EN
METHOD:PUBLISH
X-PUBLISHED-TTL:P3D
REFRESH-INTERVAL:P3D
CALSCALE:GREGORIAN
BEGIN:VEVENT
DTSTART:20161208T000000Z
DTEND:20161208T030000Z
X-MICROSOFT-CDO-ALLDAYEVENT:FALSE
SUMMARY:Holiday House Decorating Contest
DESCRIPTION:We will award prizes in four categories: Most Original\, Best Theme\, Best Use of Lights and Voters' Choice. All displays will be judged on Wednesday\, December 7 between 6-9 pm. Winners will receive a Batavia Park District prize package. This contest is for Batavia Park District residents. Addresses of all entries will be published in local media unless specified otherwise at time of registration. \n\n \n\nRegistration Deadline: Tuesday\, December 6.\n\n\n\n$5 Entrance Fee\n\n\n\nTo register or for more information please call 630-879-5235
X-ALT-DESC;FMTTYPE=text/html:<span style="color:rgb(2\, 33\, 61)\; font-family:arial\,helvetica\,sans-serif\; font-size:14px">We will award prizes in four categories: Most Original\, Best Theme\, Best Use of Lights and Voters&#39\; Choice. All displays will be judged on Wednesday\, December 7 between 6-9 pm. Winners will receive a Batavia Park District prize package. This contest is for Batavia Park District residents. Addresses of all entries will be published in local media unless specified otherwise at time of registration.&nbsp\;</span><br />\n<span style="color:rgb(2\, 33\, 61)\; font-family:arial\,helvetica\,sans-serif\; font-size:14px">&nbsp\;</span><br />\n<span style="color:rgb(2\, 33\, 61)\; font-family:arial\,helvetica\,sans-serif\; font-size:14px">Registration Deadline: Tuesday\, December 6.</span><br />\n<br />\n<em><strong>$5 Entrance Fee</strong></em><br />\n<br />\n<span style="color:rgb(2\, 33\, 61)\; font-family:arial\,helvetica\,sans-serif\; font-size:14px">To register or for more information please call 630-879-5235&nbsp\;</span>
LOCATION:Batavia\, IL
UID:e.1902.6300
SEQUENCE:3
DTSTAMP:20260425T175020Z
URL:https://business.bataviachamber.org/events/details/holiday-house-decorating-contest-12-07-2016-6300
END:VEVENT

END:VCALENDAR
