BEGIN:VCALENDAR
VERSION:2.0
PRODID:-//ChamberMaster//Event Calendar 2.0//EN
METHOD:PUBLISH
X-PUBLISHED-TTL:P3D
REFRESH-INTERVAL:P3D
CALSCALE:GREGORIAN
BEGIN:VEVENT
DTSTART:20081116T000000Z
DTEND:20081115T060000Z
X-MICROSOFT-CDO-ALLDAYEVENT:FALSE
SUMMARY:Holiday Harvest presents ''Holiday Magic''
DESCRIPTION:Girl Scouts-Fox Valley Council will host Holiday Harvest presents "Holiday Magic" - a dinner auction to benefit Girl Scouts. $75 per person.\nContact Jerre Henriksen-630-897-1565 ext.117\, jerre@fvgsc.org or www.fvgsc.org
X-ALT-DESC;FMTTYPE=text/html:<DIV align=left><FONT face=Arial color=#000080 size=4>Girl Scouts-Fox Valley Council will host Holiday Harvest presents "Holiday Magic" - a dinner auction to benefit Girl Scouts. $75 per person.</FONT></DIV><FONT face=Arial color=#000080 size=4><DIV align=left><BR>Contact&nbsp\;Jerre Henriksen-630-897-1565 ext.117\, </FONT><A onclick="OpenNewWindow('/mewebmail/HooDoo/lang/en/Forms/MAI/compose.aspx?MsgTo=jerre@fvgsc.org'\,570\,450)" href="#"><FONT face=Arial color=#000080 size=4>jerre@fvgsc.org</FONT></A><FONT face=Arial color=#000080 size=4> or www.fvgsc.org<BR><BR></DIV></FONT>
LOCATION:Piper's Banquets
UID:e.1902.1606
SEQUENCE:3
DTSTAMP:20260421T211513Z
URL:https://business.bataviachamber.org/events/details/holiday-harvest-presents-holiday-magic-11-15-2008-1606
END:VEVENT

END:VCALENDAR
