BEGIN:VCALENDAR
VERSION:2.0
PRODID:-//ChamberMaster//Event Calendar 2.0//EN
METHOD:PUBLISH
X-PUBLISHED-TTL:P3D
REFRESH-INTERVAL:P3D
CALSCALE:GREGORIAN
BEGIN:VEVENT
DTSTART:20081206T150000Z
DTEND:20081206T190000Z
X-MICROSOFT-CDO-ALLDAYEVENT:FALSE
SUMMARY:''Holiday Express'' Your one stop Holiday shopping event!
DESCRIPTION:
X-ALT-DESC;FMTTYPE=text/html:
LOCATION:Hoover-Wood School
UID:e.1902.1614
SEQUENCE:3
DTSTAMP:20260421T200202Z
URL:https://business.bataviachamber.org/events/details/holiday-express-your-one-stop-holiday-shopping-event-12-06-2008-1614
END:VEVENT

END:VCALENDAR
