BEGIN:VCALENDAR
VERSION:2.0
PRODID:-//ChamberMaster//Event Calendar 2.0//EN
METHOD:PUBLISH
X-PUBLISHED-TTL:P3D
REFRESH-INTERVAL:P3D
CALSCALE:GREGORIAN
BEGIN:VEVENT
DTSTART:20091212T060000Z
DTEND:20091212T060000Z
X-MICROSOFT-CDO-ALLDAYEVENT:FALSE
SUMMARY:Holiday Event
DESCRIPTION:Join us to Celebrate the Christmas Season! Bring the kids to sit with Santa and receive a goody bag!Enjoy hot dogs/pizza and shop our store wide sale!
X-ALT-DESC;FMTTYPE=text/html:Join us to Celebrate the Christmas Season! Bring the kids to sit with Santa and receive a goody bag!Enjoy hot dogs/pizza and shop our store wide sale!
LOCATION:Ashland Flooring
UID:e.1902.1079
SEQUENCE:3
DTSTAMP:20260420T215009Z
URL:https://business.bataviachamber.org/events/details/holiday-event-12-12-2009-1079
END:VEVENT

END:VCALENDAR
